<?xml version="1.0"?>
<Capabilities xmlns="http://www.opengis.net/wmts/1.0" xmlns:ows="http://www.opengis.net/ows/1.1" xmlns:xlink="http://www.w3.org/1999/xlink" xmlns:xsi="http://www.w3.org/2001/XMLSchema-instance" xmlns:gml="http://www.opengis.net/gml" xsi:schemaLocation="http://www.opengis.net/wmts/1.0 http://schemas.opengis.net/wmts/1.0/wmtsGetCapabilities_response.xsd" version="1.0.0">
  <ows:ServiceIdentification>
    <ows:Title>Service Unifié Veolia / PCRS</ows:Title>
    <ows:Abstract></ows:Abstract>
    <ows:ServiceType>OGC WMTS</ows:ServiceType>
    <ows:ServiceTypeVersion>1.0.0</ows:ServiceTypeVersion>
    <ows:Fees>none</ows:Fees>
    <ows:AccessConstraints>none</ows:AccessConstraints>
  </ows:ServiceIdentification>
  <ows:OperationsMetadata>
    <ows:Operation name="GetCapabilities">
      <ows:DCP>
        <ows:HTTP>
          <ows:Get xlink:href="https://mapproxy-rec.hp.m-ve.com/wmts?">
            <ows:Constraint name="GetEncoding">
              <ows:AllowedValues>
                <ows:Value>RESTful</ows:Value>
              </ows:AllowedValues>
            </ows:Constraint>
          </ows:Get>
        </ows:HTTP>
      </ows:DCP>
    </ows:Operation>
    <ows:Operation name="GetTile">
      <ows:DCP>
        <ows:HTTP>
          <ows:Get xlink:href="https://mapproxy-rec.hp.m-ve.com/wmts?">
            <ows:Constraint name="GetEncoding">
              <ows:AllowedValues>
                <ows:Value>RESTful</ows:Value>
              </ows:AllowedValues>
            </ows:Constraint>
          </ows:Get>
        </ows:HTTP>
      </ows:DCP>
    </ows:Operation>
    <ows:Operation name="GetFeatureInfo">
      <ows:DCP>
        <ows:HTTP>
          <ows:Get xlink:href="https://mapproxy-rec.hp.m-ve.com/wmts?">
            <ows:Constraint name="GetEncoding">
              <ows:AllowedValues>
                <ows:Value>RESTful</ows:Value>
              </ows:AllowedValues>
            </ows:Constraint>
          </ows:Get>
        </ows:HTTP>
      </ows:DCP>
    </ows:Operation>
  </ows:OperationsMetadata>
  <Contents>
    <Layer>
      <ows:Title>PCRS (natif Lambert-93, sans reprojection)</ows:Title>
      <ows:Abstract></ows:Abstract>
      <ows:WGS84BoundingBox>
        <ows:LowerCorner>-6.943311888335654 39.69027033518614</ows:LowerCorner>
        <ows:UpperCorner>11.714633289946498 52.24835409902215</ows:UpperCorner>
      </ows:WGS84BoundingBox>
      <ows:Identifier>pcrs_natif</ows:Identifier>
      <Style isDefault="true">
        <ows:Identifier>default</ows:Identifier>
      </Style>
      <Format>image/png</Format>
      <TileMatrixSetLink>
        <TileMatrixSet>pcrs_lambert93</TileMatrixSet>
      </TileMatrixSetLink>
      <ResourceURL format="image/png" resourceType="tile"
        template="https://mapproxy-rec.hp.m-ve.com/wmts/pcrs_natif/{TileMatrixSet}/{TileMatrix}/{TileCol}/{TileRow}.png"/>
    </Layer>
    <TileMatrixSet>
      <ows:Identifier>pcrs_lambert93</ows:Identifier>
      <ows:SupportedCRS>urn:ogc:def:crs:EPSG:2154</ows:SupportedCRS>
      <TileMatrix>
        <ows:Identifier>00</ows:Identifier>
        <ScaleDenominator>11428.5714285714</ScaleDenominator>
        <TopLeftCorner>14409.692309675971 7239966.249635386</TopLeftCorner>
        <TileWidth>256</TileWidth>
        <TileHeight>256</TileHeight>
        <MatrixWidth>1570</MatrixWidth>
        <MatrixHeight>1664</MatrixHeight>
      </TileMatrix>
      <TileMatrix>
        <ows:Identifier>01</ows:Identifier>
        <ScaleDenominator>5714.2857142857</ScaleDenominator>
        <TopLeftCorner>14409.692309675971 7239966.249635386</TopLeftCorner>
        <TileWidth>256</TileWidth>
        <TileHeight>256</TileHeight>
        <MatrixWidth>3139</MatrixWidth>
        <MatrixHeight>3328</MatrixHeight>
      </TileMatrix>
      <TileMatrix>
        <ows:Identifier>02</ows:Identifier>
        <ScaleDenominator>2857.1428571429</ScaleDenominator>
        <TopLeftCorner>14409.692309675971 7239966.249635386</TopLeftCorner>
        <TileWidth>256</TileWidth>
        <TileHeight>256</TileHeight>
        <MatrixWidth>6278</MatrixWidth>
        <MatrixHeight>6655</MatrixHeight>
      </TileMatrix>
      <TileMatrix>
        <ows:Identifier>03</ows:Identifier>
        <ScaleDenominator>1428.5714285714</ScaleDenominator>
        <TopLeftCorner>14409.692309675971 7239966.249635386</TopLeftCorner>
        <TileWidth>256</TileWidth>
        <TileHeight>256</TileHeight>
        <MatrixWidth>12556</MatrixWidth>
        <MatrixHeight>13310</MatrixHeight>
      </TileMatrix>
      <TileMatrix>
        <ows:Identifier>04</ows:Identifier>
        <ScaleDenominator>714.2857142857</ScaleDenominator>
        <TopLeftCorner>14409.692309675971 7239966.249635386</TopLeftCorner>
        <TileWidth>256</TileWidth>
        <TileHeight>256</TileHeight>
        <MatrixWidth>25112</MatrixWidth>
        <MatrixHeight>26620</MatrixHeight>
      </TileMatrix>
      <TileMatrix>
        <ows:Identifier>05</ows:Identifier>
        <ScaleDenominator>357.1428571429</ScaleDenominator>
        <TopLeftCorner>14409.692309675971 7239966.249635386</TopLeftCorner>
        <TileWidth>256</TileWidth>
        <TileHeight>256</TileHeight>
        <MatrixWidth>50224</MatrixWidth>
        <MatrixHeight>53240</MatrixHeight>
      </TileMatrix>
      <TileMatrix>
        <ows:Identifier>06</ows:Identifier>
        <ScaleDenominator>178.5714285714</ScaleDenominator>
        <TopLeftCorner>14409.692309675971 7239966.249635386</TopLeftCorner>
        <TileWidth>256</TileWidth>
        <TileHeight>256</TileHeight>
        <MatrixWidth>100448</MatrixWidth>
        <MatrixHeight>106480</MatrixHeight>
      </TileMatrix>
    </TileMatrixSet>
  </Contents>
  <ServiceMetadataURL xlink:href="https://mapproxy-rec.hp.m-ve.com/wmts/1.0.0/WMTSCapabilities.xml"/>
</Capabilities>